BEGIN:VCALENDAR
VERSION:2.0
METHOD:PUBLISH
X-WR-CALNAME;VALUE=TEXT:Events iCalendar
PRODID:-//Drupal iCal API//EN
BEGIN:VEVENT
SUMMARY:AAHCI-AAMC Leadership Forum (formerly GIF)
DTSTART:20270222T000000
DTEND:20270224T000000
DESCRIPTION:Save the date for the AAMC’s AAHCI (Alliance of Academic Health Centers International) signature international meeting.
LOCATION:Toronto\, ON\, Canada

END:VEVENT
END:VCALENDAR
